BEGIN:VCALENDAR
VERSION:2.0
PRODID:-//Lidl//NONSGML Lidl Karriere//EN
CALSCALE:GREGORIAN
BEGIN:VEVENT
LOCATION:Bratislava
DESCRIPTION:Na Ekonomickej univerzite v Bratislave budeme prepájať 
 tudentov so zástupcami praxe. Zakladáme si na vytváran
  partnerstiev medzi spoločnosťami a študentami (spolup
 ráca - partnerstvo - kariéra). Tešíme sa\, že aj my z
 #teamKaufland môžeme byť súčasťou tohto podujatia!
DTSTART:20260317T080000Z
DTEND:20260317T140000Z
SUMMARY:Jobfair EUBA
URL:https://kariera.kaufland.sk/events/jobfair-euba
DTSTAMP:20260419T130913Z
UID:69e4d3f9c2d43
END:VEVENT
END:VCALENDAR